BEGIN:VCALENDAR
VERSION:2.0
PRODID:-//jEvents 2.0 for Joomla//EN
CALSCALE:GREGORIAN
METHOD:PUBLISH
BEGIN:VEVENT
UID:5835c48137bf40f735ddc71e99bda2b3
CATEGORIES:Default
SUMMARY:Režisora Renāra Vimbas spēlfilma "Es esmu šeit" (2016)
LOCATION:Carnikavas tautas nams "Ozolaine
DESCRIPTION;ENCODING=QUOTED-PRINTABLE:\n\n\n\n\n18.martā 19:00 piedāvājam režisora Renāra Vimbas debijas spēlfilm
 u "Es esmu šeit" (2016)\n\nSeansā piedalīsies arī režisors Renārs Vimba\n\n
 Filma ir spēcīgs autora pieteikums pilnmetrāžā. Tas ir izsmalcināts sieviet
 es rakstura veidošanās portretējums – pieaugšanas stāsts, kuru caurvij vien
 tulības, vilšanās un pirmās mīlestības pārdzīvojums. Filmas galvenā varone 
 Raja dzīvo mazā lauku saimniecībā kopā ar valdonīgo vecomāti un mazo brāli 
 Robi. Baiss notikums pārvērš māsas un brāļa dzīvi,liekot meitenei pieņemt l
 ēmumus, no kādiem vairītos pat pieaugušie. \nBerlīnes kino festivālā filmai
  “Es esmu šeit” piešķirta galvenā balva jauniešu filmu konkursā.\n\n\nGalve
 no lomu atveidotāji:\nELĪNA VASKA, ANDŽEJS JĀNIS LILIENTĀLS, EDGARS SAMĪTIS
 , ZANE JANČEVSKA,\nRUTA BIRGERE, RĒZIJA KALNIŅA\nKomponists: ĒRIKS EŠENVALD
 S\n\nIeeja 2,00 EUR\nBiļetes varēs iegādāties tautas namā “Ozolaine” pusstu
 ndu pirms seansa
CONTACT:26378644
DTSTAMP:20260420T032206Z
DTSTART:20160318T190000Z
SEQUENCE:0
TRANSP:OPAQUE
END:VEVENT
END:VCALENDAR