BEGIN:VCALENDAR
VERSION:2.0
PRODID:-//jEvents 2.0 for Joomla//EN
CALSCALE:GREGORIAN
METHOD:PUBLISH
BEGIN:VEVENT
UID:976d697d8be4e7d5a54277405ec17a2b
CATEGORIES:Default
SUMMARY:Lāčplēša dienas pasākumi
LOCATION:Carnikava
DESCRIPTION;ENCODING=QUOTED-PRINTABLE:\n\n\n\n\n11. novembrī Lāčplēša diena\n\n 15:00     Militārās tehnikas parā
 de pie Carnikavas pamatskolas\n\n 17:30     Lāpu gājiens no Carnikavas pama
 tskolas uz Svētku laukumu\n\n 17:40     Svinīgais brīdis Svētku laukumā / G
 aismas ceļš - svecīšu palaišana Gaujā.\nPēc svinīgā brīža aicinām baudīt ka
 ravīru biezputru un karstu tēju pie tautas nama.\n\n\n\n 19:00     Lāčplēša
  dienai veltīts koncerts Carnikavas tautas namā “Ozolaine”\n Piedalās:\n Ca
 rnikavas sieviešu koris “Undīne”\n Rīgas tehniskās koledžas jauktais koris 
 “Mīts”\n
CONTACT:29541105
DTSTAMP:20260419T132452Z
DTSTART:20161111T150000Z
DTEND:20161111T210000Z
SEQUENCE:0
TRANSP:OPAQUE
END:VEVENT
END:VCALENDAR