BEGIN:VCALENDAR
VERSION:2.0
PRODID:-//jEvents 2.0 for Joomla//EN
CALSCALE:GREGORIAN
METHOD:PUBLISH
BEGIN:VEVENT
UID:e24b16783842a7cd14b9a8eb77bf2d63
CATEGORIES:Default
SUMMARY:Ziemassvētku amatnieku tirdziņš
LOCATION:Carnikavas tautas nams "Ozolaine"
DESCRIPTION;ENCODING=QUOTED-PRINTABLE:
CONTACT:29541105
DTSTAMP:20260421T081203Z
DTSTART:20161210T110000Z
DTEND:20161210T140000Z
SEQUENCE:0
TRANSP:OPAQUE
END:VEVENT
END:VCALENDAR