BEGIN:VCALENDAR
VERSION:2.0
PRODID:-//jEvents 2.0 for Joomla//EN
CALSCALE:GREGORIAN
METHOD:PUBLISH
BEGIN:VEVENT
UID:738d2a120104e929cb87076425515193
CATEGORIES:Default
SUMMARY:Komunistiskā genocīda upuru piemiņas pasākums “Kad asaras sasalst”
LOCATION:Carnikavas tautas nams "Ozolaine
DESCRIPTION;ENCODING=QUOTED-PRINTABLE:\n\n\n\n\n23. martā plkst. 13:00 tautas namā “Ozolaine” norisināsies komuni
 stiskā genocīda upuru piemiņas pasākums “Kad asaras sasalst”\n\nAicinām Car
 nikavas novada politiski represētās personas uz komunistiskā genocīda upuru
  atceres dienai veltītu pasākumu. \n\nPiedalās aktrise, dzejniece Kristīne 
 Dina Bitēna, komponists Atvars Sirmais, solisteLauma Eņģele\n
CONTACT:26378644
DTSTAMP:20260420T032237Z
DTSTART:20160323T130000Z
SEQUENCE:0
TRANSP:OPAQUE
END:VEVENT
END:VCALENDAR