BEGIN:VCALENDAR
VERSION:2.0
PRODID:-//jEvents 2.0 for Joomla//EN
CALSCALE:GREGORIAN
METHOD:PUBLISH
BEGIN:VEVENT
UID:0ff3a24b6d3099c8d44df55befe340fb
CATEGORIES:Default
SUMMARY:Filmu sērija "Tālā zeme Sibīrija"
LOCATION:Carnikavas tautas nams "Ozolaine
DESCRIPTION;ENCODING=QUOTED-PRINTABLE:\n\n\n\n\n25. martā plkst. 19:00 tautas namā “Ozolaine”\n\nPieminot 1949.ga
 da 25.marta deportāciju, aicinām uz filmu sērijas “Tālā zeme Sibīrija” sēri
 ju “Amūras apgabals 1949. Tigda, Vozžajevka, Belogorska, Blagoveščenska”\n\
 nRežisore Dzintra Geka, 2014.gads, 56 min.\n\nIeeja bez maksas\n
CONTACT:26378644
DTSTAMP:20260420T032350Z
DTSTART:20160325T190000Z
SEQUENCE:0
TRANSP:OPAQUE
END:VEVENT
END:VCALENDAR