BEGIN:VCALENDAR
VERSION:2.0
PRODID:-//jEvents 2.0 for Joomla//EN
CALSCALE:GREGORIAN
METHOD:PUBLISH
BEGIN:VEVENT
UID:2bbce701fec7e333ee4559ce4378fdce
CATEGORIES:Default
SUMMARY: Izstādes "Papīra dvēsele" atklāšana
LOCATION:Carnikavas tautas nams "Ozolaine
DESCRIPTION;ENCODING=QUOTED-PRINTABLE:\n\n\nLīdz 14. aprīlim tautas namā „Ozolaine” apskatāma izstāde “Papīra dvē
 sele”\n\nIzstāde norisinās izstāžu cikla “Latvijas matērija” ietvaros.\n\nP
 iedalās gleznotāja Ilze Dilāne, piedāvājot iepazīties ar papīra masas glezn
 iecības tehnikā veidotiem darbiem, grafiķe un dizainere Ērika Māldere ar da
 rbu ciklu “Sievišķības krasta līnija” – uz rokas lējuma, rūsinātiem paīriem
  veidotām smalkām grafikām. Ar skaistiem darbiem papīra liešanas tehnikā pā
 rsteidz arī Carnikavas tēlotājstudijas “Triepiens” dalībnieki un Carnikavas
  mākslas skolas audzēkņi.\n\nIzstādes atklāšanas dienā visiem apmeklētājiem
  bija iespēja izveidot atklātni – veltījumu Latvijai. Tapa pāri par piecdes
 mit atklātnes . Sākot ar 2. martu tās būs apskatāmas izstāžu zālē un katram
  būs iespēja nobalsot par sev tīkamāko atklātni. Atklātne, kas saņems visli
 elāko balsu skaitu tiks izdota kā pastkarte, kuru sūtīsim ārpus Latvijas dz
 īvojošajiem tautiešiem.\n\nSekojiet informācijai!
CONTACT:29541105
DTSTAMP:20260420T045111Z
DTSTART:20160227T140000Z
SEQUENCE:0
TRANSP:OPAQUE
END:VEVENT
END:VCALENDAR